BEGIN:VCALENDAR
VERSION:2.0
PRODID:-//The Coterie - ECPv6.15.20//NONSGML v1.0//EN
CALSCALE:GREGORIAN
METHOD:PUBLISH
X-ORIGINAL-URL:https://thecoterie.org
X-WR-CALDESC:Events for The Coterie
REFRESH-INTERVAL;VALUE=DURATION:PT1H
X-Robots-Tag:noindex
X-PUBLISHED-TTL:PT1H
BEGIN:VTIMEZONE
TZID:America/Chicago
BEGIN:DAYLIGHT
TZOFFSETFROM:-0600
TZOFFSETTO:-0500
TZNAME:CDT
DTSTART:20230312T080000
END:DAYLIGHT
BEGIN:STANDARD
TZOFFSETFROM:-0500
TZOFFSETTO:-0600
TZNAME:CST
DTSTART:20231105T070000
END:STANDARD
BEGIN:DAYLIGHT
TZOFFSETFROM:-0600
TZOFFSETTO:-0500
TZNAME:CDT
DTSTART:20240310T080000
END:DAYLIGHT
BEGIN:STANDARD
TZOFFSETFROM:-0500
TZOFFSETTO:-0600
TZNAME:CST
DTSTART:20241103T070000
END:STANDARD
BEGIN:DAYLIGHT
TZOFFSETFROM:-0600
TZOFFSETTO:-0500
TZNAME:CDT
DTSTART:20250309T080000
END:DAYLIGHT
BEGIN:STANDARD
TZOFFSETFROM:-0500
TZOFFSETTO:-0600
TZNAME:CST
DTSTART:20251102T070000
END:STANDARD
END:VTIMEZONE
BEGIN:VEVENT
DTSTART;TZID=America/Chicago:20240806T110000
DTEND;TZID=America/Chicago:20240806T120000
DTSTAMP:20260424T091128
CREATED:20230613T221259Z
LAST-MODIFIED:20230613T221259Z
UID:10000407-1722942000-1722945600@thecoterie.org
SUMMARY:Doctor Dolittle
DESCRIPTION:
URL:https://thecoterie.org/event/doctor-dolittle/2024-08-06/
LOCATION:The Coterie\, 2450 Grand Blvd\, Suite 144\, Kansas City\, 64108\, United States
CATEGORIES:Doctor Dolittle
END:VEVENT
BEGIN:VEVENT
DTSTART;TZID=America/Chicago:20240805T110000
DTEND;TZID=America/Chicago:20240805T120000
DTSTAMP:20260424T091128
CREATED:20230613T221259Z
LAST-MODIFIED:20230613T221259Z
UID:10000406-1722855600-1722859200@thecoterie.org
SUMMARY:Doctor Dolittle
DESCRIPTION:
URL:https://thecoterie.org/event/doctor-dolittle/2024-08-05/
LOCATION:The Coterie\, 2450 Grand Blvd\, Suite 144\, Kansas City\, 64108\, United States
CATEGORIES:Doctor Dolittle
END:VEVENT
BEGIN:VEVENT
DTSTART;TZID=America/Chicago:20240804T110000
DTEND;TZID=America/Chicago:20240804T120000
DTSTAMP:20260424T091128
CREATED:20230613T221259Z
LAST-MODIFIED:20230613T221259Z
UID:10000405-1722769200-1722772800@thecoterie.org
SUMMARY:Doctor Dolittle
DESCRIPTION:
URL:https://thecoterie.org/event/doctor-dolittle/2024-08-04/
LOCATION:The Coterie\, 2450 Grand Blvd\, Suite 144\, Kansas City\, 64108\, United States
CATEGORIES:Doctor Dolittle
END:VEVENT
BEGIN:VEVENT
DTSTART;TZID=America/Chicago:20240803T110000
DTEND;TZID=America/Chicago:20240803T120000
DTSTAMP:20260424T091128
CREATED:20230613T221259Z
LAST-MODIFIED:20230613T221259Z
UID:10000404-1722682800-1722686400@thecoterie.org
SUMMARY:Doctor Dolittle
DESCRIPTION:
URL:https://thecoterie.org/event/doctor-dolittle/2024-08-03/
LOCATION:The Coterie\, 2450 Grand Blvd\, Suite 144\, Kansas City\, 64108\, United States
CATEGORIES:Doctor Dolittle
END:VEVENT
BEGIN:VEVENT
DTSTART;TZID=America/Chicago:20240802T110000
DTEND;TZID=America/Chicago:20240802T120000
DTSTAMP:20260424T091128
CREATED:20230613T221259Z
LAST-MODIFIED:20230613T221259Z
UID:10000403-1722596400-1722600000@thecoterie.org
SUMMARY:Doctor Dolittle
DESCRIPTION:
URL:https://thecoterie.org/event/doctor-dolittle/2024-08-02/
LOCATION:The Coterie\, 2450 Grand Blvd\, Suite 144\, Kansas City\, 64108\, United States
CATEGORIES:Doctor Dolittle
END:VEVENT
BEGIN:VEVENT
DTSTART;TZID=America/Chicago:20240801T110000
DTEND;TZID=America/Chicago:20240801T120000
DTSTAMP:20260424T091128
CREATED:20230613T221259Z
LAST-MODIFIED:20230613T221259Z
UID:10000402-1722510000-1722513600@thecoterie.org
SUMMARY:Doctor Dolittle
DESCRIPTION:
URL:https://thecoterie.org/event/doctor-dolittle/2024-08-01/
LOCATION:The Coterie\, 2450 Grand Blvd\, Suite 144\, Kansas City\, 64108\, United States
CATEGORIES:Doctor Dolittle
END:VEVENT
BEGIN:VEVENT
DTSTART;TZID=America/Chicago:20240731T110000
DTEND;TZID=America/Chicago:20240731T120000
DTSTAMP:20260424T091128
CREATED:20230613T221259Z
LAST-MODIFIED:20230613T221259Z
UID:10000401-1722423600-1722427200@thecoterie.org
SUMMARY:Doctor Dolittle
DESCRIPTION:
URL:https://thecoterie.org/event/doctor-dolittle/2024-07-31/
LOCATION:The Coterie\, 2450 Grand Blvd\, Suite 144\, Kansas City\, 64108\, United States
CATEGORIES:Doctor Dolittle
END:VEVENT
BEGIN:VEVENT
DTSTART;TZID=America/Chicago:20240730T110000
DTEND;TZID=America/Chicago:20240730T120000
DTSTAMP:20260424T091128
CREATED:20230613T221259Z
LAST-MODIFIED:20230613T221259Z
UID:10000400-1722337200-1722340800@thecoterie.org
SUMMARY:Doctor Dolittle
DESCRIPTION:
URL:https://thecoterie.org/event/doctor-dolittle/2024-07-30/
LOCATION:The Coterie\, 2450 Grand Blvd\, Suite 144\, Kansas City\, 64108\, United States
CATEGORIES:Doctor Dolittle
END:VEVENT
BEGIN:VEVENT
DTSTART;TZID=America/Chicago:20240729T110000
DTEND;TZID=America/Chicago:20240729T120000
DTSTAMP:20260424T091128
CREATED:20230613T221259Z
LAST-MODIFIED:20230613T221259Z
UID:10000399-1722250800-1722254400@thecoterie.org
SUMMARY:Doctor Dolittle
DESCRIPTION:
URL:https://thecoterie.org/event/doctor-dolittle/2024-07-29/
LOCATION:The Coterie\, 2450 Grand Blvd\, Suite 144\, Kansas City\, 64108\, United States
CATEGORIES:Doctor Dolittle
END:VEVENT
BEGIN:VEVENT
DTSTART;TZID=America/Chicago:20240728T110000
DTEND;TZID=America/Chicago:20240728T120000
DTSTAMP:20260424T091128
CREATED:20230613T221259Z
LAST-MODIFIED:20230613T221259Z
UID:10000398-1722164400-1722168000@thecoterie.org
SUMMARY:Doctor Dolittle
DESCRIPTION:
URL:https://thecoterie.org/event/doctor-dolittle/2024-07-28/
LOCATION:The Coterie\, 2450 Grand Blvd\, Suite 144\, Kansas City\, 64108\, United States
CATEGORIES:Doctor Dolittle
END:VEVENT
BEGIN:VEVENT
DTSTART;TZID=America/Chicago:20240727T110000
DTEND;TZID=America/Chicago:20240727T120000
DTSTAMP:20260424T091128
CREATED:20230613T221259Z
LAST-MODIFIED:20230613T221259Z
UID:10000397-1722078000-1722081600@thecoterie.org
SUMMARY:Doctor Dolittle
DESCRIPTION:
URL:https://thecoterie.org/event/doctor-dolittle/2024-07-27/
LOCATION:The Coterie\, 2450 Grand Blvd\, Suite 144\, Kansas City\, 64108\, United States
CATEGORIES:Doctor Dolittle
END:VEVENT
BEGIN:VEVENT
DTSTART;TZID=America/Chicago:20240726T110000
DTEND;TZID=America/Chicago:20240726T120000
DTSTAMP:20260424T091128
CREATED:20230613T221259Z
LAST-MODIFIED:20230613T221259Z
UID:10000396-1721991600-1721995200@thecoterie.org
SUMMARY:Doctor Dolittle
DESCRIPTION:
URL:https://thecoterie.org/event/doctor-dolittle/2024-07-26/
LOCATION:The Coterie\, 2450 Grand Blvd\, Suite 144\, Kansas City\, 64108\, United States
CATEGORIES:Doctor Dolittle
END:VEVENT
BEGIN:VEVENT
DTSTART;TZID=America/Chicago:20240725T110000
DTEND;TZID=America/Chicago:20240725T120000
DTSTAMP:20260424T091128
CREATED:20230613T221259Z
LAST-MODIFIED:20230613T221259Z
UID:10000395-1721905200-1721908800@thecoterie.org
SUMMARY:Doctor Dolittle
DESCRIPTION:
URL:https://thecoterie.org/event/doctor-dolittle/2024-07-25/
LOCATION:The Coterie\, 2450 Grand Blvd\, Suite 144\, Kansas City\, 64108\, United States
CATEGORIES:Doctor Dolittle
END:VEVENT
BEGIN:VEVENT
DTSTART;TZID=America/Chicago:20240724T110000
DTEND;TZID=America/Chicago:20240724T120000
DTSTAMP:20260424T091128
CREATED:20230613T221259Z
LAST-MODIFIED:20230613T221259Z
UID:10000394-1721818800-1721822400@thecoterie.org
SUMMARY:Doctor Dolittle
DESCRIPTION:
URL:https://thecoterie.org/event/doctor-dolittle/2024-07-24/
LOCATION:The Coterie\, 2450 Grand Blvd\, Suite 144\, Kansas City\, 64108\, United States
CATEGORIES:Doctor Dolittle
END:VEVENT
BEGIN:VEVENT
DTSTART;TZID=America/Chicago:20240723T110000
DTEND;TZID=America/Chicago:20240723T120000
DTSTAMP:20260424T091128
CREATED:20230613T221259Z
LAST-MODIFIED:20230613T221259Z
UID:10000393-1721732400-1721736000@thecoterie.org
SUMMARY:Doctor Dolittle
DESCRIPTION:
URL:https://thecoterie.org/event/doctor-dolittle/2024-07-23/
LOCATION:The Coterie\, 2450 Grand Blvd\, Suite 144\, Kansas City\, 64108\, United States
CATEGORIES:Doctor Dolittle
END:VEVENT
BEGIN:VEVENT
DTSTART;TZID=America/Chicago:20240722T110000
DTEND;TZID=America/Chicago:20240722T120000
DTSTAMP:20260424T091128
CREATED:20230613T221259Z
LAST-MODIFIED:20230613T221259Z
UID:10000392-1721646000-1721649600@thecoterie.org
SUMMARY:Doctor Dolittle
DESCRIPTION:
URL:https://thecoterie.org/event/doctor-dolittle/2024-07-22/
LOCATION:The Coterie\, 2450 Grand Blvd\, Suite 144\, Kansas City\, 64108\, United States
CATEGORIES:Doctor Dolittle
END:VEVENT
BEGIN:VEVENT
DTSTART;TZID=America/Chicago:20240721T110000
DTEND;TZID=America/Chicago:20240721T120000
DTSTAMP:20260424T091128
CREATED:20230613T221259Z
LAST-MODIFIED:20230613T221259Z
UID:10000391-1721559600-1721563200@thecoterie.org
SUMMARY:Doctor Dolittle
DESCRIPTION:
URL:https://thecoterie.org/event/doctor-dolittle/2024-07-21/
LOCATION:The Coterie\, 2450 Grand Blvd\, Suite 144\, Kansas City\, 64108\, United States
CATEGORIES:Doctor Dolittle
END:VEVENT
BEGIN:VEVENT
DTSTART;TZID=America/Chicago:20240720T110000
DTEND;TZID=America/Chicago:20240720T120000
DTSTAMP:20260424T091128
CREATED:20230613T221259Z
LAST-MODIFIED:20230613T221259Z
UID:10000390-1721473200-1721476800@thecoterie.org
SUMMARY:Doctor Dolittle
DESCRIPTION:
URL:https://thecoterie.org/event/doctor-dolittle/2024-07-20/
LOCATION:The Coterie\, 2450 Grand Blvd\, Suite 144\, Kansas City\, 64108\, United States
CATEGORIES:Doctor Dolittle
END:VEVENT
BEGIN:VEVENT
DTSTART;TZID=America/Chicago:20240719T110000
DTEND;TZID=America/Chicago:20240719T120000
DTSTAMP:20260424T091128
CREATED:20230613T221259Z
LAST-MODIFIED:20230613T221259Z
UID:10000389-1721386800-1721390400@thecoterie.org
SUMMARY:Doctor Dolittle
DESCRIPTION:
URL:https://thecoterie.org/event/doctor-dolittle/2024-07-19/
LOCATION:The Coterie\, 2450 Grand Blvd\, Suite 144\, Kansas City\, 64108\, United States
CATEGORIES:Doctor Dolittle
END:VEVENT
BEGIN:VEVENT
DTSTART;TZID=America/Chicago:20240718T110000
DTEND;TZID=America/Chicago:20240718T120000
DTSTAMP:20260424T091128
CREATED:20230613T221259Z
LAST-MODIFIED:20230613T221259Z
UID:10000388-1721300400-1721304000@thecoterie.org
SUMMARY:Doctor Dolittle
DESCRIPTION:
URL:https://thecoterie.org/event/doctor-dolittle/2024-07-18/
LOCATION:The Coterie\, 2450 Grand Blvd\, Suite 144\, Kansas City\, 64108\, United States
CATEGORIES:Doctor Dolittle
END:VEVENT
BEGIN:VEVENT
DTSTART;TZID=America/Chicago:20240717T110000
DTEND;TZID=America/Chicago:20240717T120000
DTSTAMP:20260424T091128
CREATED:20230613T221259Z
LAST-MODIFIED:20230613T221259Z
UID:10000387-1721214000-1721217600@thecoterie.org
SUMMARY:Doctor Dolittle
DESCRIPTION:
URL:https://thecoterie.org/event/doctor-dolittle/2024-07-17/
LOCATION:The Coterie\, 2450 Grand Blvd\, Suite 144\, Kansas City\, 64108\, United States
CATEGORIES:Doctor Dolittle
END:VEVENT
BEGIN:VEVENT
DTSTART;TZID=America/Chicago:20240716T110000
DTEND;TZID=America/Chicago:20240716T120000
DTSTAMP:20260424T091128
CREATED:20230613T221259Z
LAST-MODIFIED:20230613T221259Z
UID:10000386-1721127600-1721131200@thecoterie.org
SUMMARY:Doctor Dolittle
DESCRIPTION:
URL:https://thecoterie.org/event/doctor-dolittle/2024-07-16/
LOCATION:The Coterie\, 2450 Grand Blvd\, Suite 144\, Kansas City\, 64108\, United States
CATEGORIES:Doctor Dolittle
END:VEVENT
BEGIN:VEVENT
DTSTART;TZID=America/Chicago:20240715T110000
DTEND;TZID=America/Chicago:20240715T120000
DTSTAMP:20260424T091128
CREATED:20230613T221259Z
LAST-MODIFIED:20230613T221259Z
UID:10000385-1721041200-1721044800@thecoterie.org
SUMMARY:Doctor Dolittle
DESCRIPTION:
URL:https://thecoterie.org/event/doctor-dolittle/2024-07-15/
LOCATION:The Coterie\, 2450 Grand Blvd\, Suite 144\, Kansas City\, 64108\, United States
CATEGORIES:Doctor Dolittle
END:VEVENT
BEGIN:VEVENT
DTSTART;TZID=America/Chicago:20240714T110000
DTEND;TZID=America/Chicago:20240714T120000
DTSTAMP:20260424T091128
CREATED:20230613T221259Z
LAST-MODIFIED:20230613T221259Z
UID:10000384-1720954800-1720958400@thecoterie.org
SUMMARY:Doctor Dolittle
DESCRIPTION:
URL:https://thecoterie.org/event/doctor-dolittle/2024-07-14/
LOCATION:The Coterie\, 2450 Grand Blvd\, Suite 144\, Kansas City\, 64108\, United States
CATEGORIES:Doctor Dolittle
END:VEVENT
BEGIN:VEVENT
DTSTART;TZID=America/Chicago:20240713T110000
DTEND;TZID=America/Chicago:20240713T120000
DTSTAMP:20260424T091128
CREATED:20230613T221259Z
LAST-MODIFIED:20230613T221259Z
UID:10000383-1720868400-1720872000@thecoterie.org
SUMMARY:Doctor Dolittle
DESCRIPTION:
URL:https://thecoterie.org/event/doctor-dolittle/2024-07-13/
LOCATION:The Coterie\, 2450 Grand Blvd\, Suite 144\, Kansas City\, 64108\, United States
CATEGORIES:Doctor Dolittle
END:VEVENT
BEGIN:VEVENT
DTSTART;TZID=America/Chicago:20240712T110000
DTEND;TZID=America/Chicago:20240712T120000
DTSTAMP:20260424T091128
CREATED:20230613T221259Z
LAST-MODIFIED:20230613T221259Z
UID:10000382-1720782000-1720785600@thecoterie.org
SUMMARY:Doctor Dolittle
DESCRIPTION:
URL:https://thecoterie.org/event/doctor-dolittle/2024-07-12/
LOCATION:The Coterie\, 2450 Grand Blvd\, Suite 144\, Kansas City\, 64108\, United States
CATEGORIES:Doctor Dolittle
END:VEVENT
BEGIN:VEVENT
DTSTART;TZID=America/Chicago:20240711T110000
DTEND;TZID=America/Chicago:20240711T120000
DTSTAMP:20260424T091128
CREATED:20230613T221259Z
LAST-MODIFIED:20230613T221259Z
UID:10000381-1720695600-1720699200@thecoterie.org
SUMMARY:Doctor Dolittle
DESCRIPTION:
URL:https://thecoterie.org/event/doctor-dolittle/2024-07-11/
LOCATION:The Coterie\, 2450 Grand Blvd\, Suite 144\, Kansas City\, 64108\, United States
CATEGORIES:Doctor Dolittle
END:VEVENT
BEGIN:VEVENT
DTSTART;TZID=America/Chicago:20240710T110000
DTEND;TZID=America/Chicago:20240710T120000
DTSTAMP:20260424T091128
CREATED:20230613T221259Z
LAST-MODIFIED:20230613T221259Z
UID:10000380-1720609200-1720612800@thecoterie.org
SUMMARY:Doctor Dolittle
DESCRIPTION:
URL:https://thecoterie.org/event/doctor-dolittle/2024-07-10/
LOCATION:The Coterie\, 2450 Grand Blvd\, Suite 144\, Kansas City\, 64108\, United States
CATEGORIES:Doctor Dolittle
END:VEVENT
BEGIN:VEVENT
DTSTART;TZID=America/Chicago:20240709T110000
DTEND;TZID=America/Chicago:20240709T120000
DTSTAMP:20260424T091128
CREATED:20230613T221259Z
LAST-MODIFIED:20230613T221259Z
UID:10000379-1720522800-1720526400@thecoterie.org
SUMMARY:Doctor Dolittle
DESCRIPTION:
URL:https://thecoterie.org/event/doctor-dolittle/2024-07-09/
LOCATION:The Coterie\, 2450 Grand Blvd\, Suite 144\, Kansas City\, 64108\, United States
CATEGORIES:Doctor Dolittle
END:VEVENT
BEGIN:VEVENT
DTSTART;TZID=America/Chicago:20240708T110000
DTEND;TZID=America/Chicago:20240708T120000
DTSTAMP:20260424T091128
CREATED:20230613T221259Z
LAST-MODIFIED:20230613T221259Z
UID:10000378-1720436400-1720440000@thecoterie.org
SUMMARY:Doctor Dolittle
DESCRIPTION:
URL:https://thecoterie.org/event/doctor-dolittle/2024-07-08/
LOCATION:The Coterie\, 2450 Grand Blvd\, Suite 144\, Kansas City\, 64108\, United States
CATEGORIES:Doctor Dolittle
END:VEVENT
END:VCALENDAR